BEGIN:VCALENDAR
VERSION:2.0
METHOD:PUBLISH
PRODID:-//imacoda.com//SPD-Web-O-Mat//EN
CALSCALE:GREGORIAN
BEGIN:VTIMEZONE
TZID:Europe/Berlin
BEGIN:DAYLIGHT
TZOFFSETFROM:+0100
RRULE:FREQ=YEARLY;BYMONTH=3;BYDAY=-1SU
DTSTART:19810329T020000
TZNAME:MESZ
TZOFFSETTO:+0200
END:DAYLIGHT
BEGIN:STANDARD
TZOFFSETFROM:+0200
RRULE:FREQ=YEARLY;BYMONTH=10;BYDAY=-1SU
DTSTART:19961027T030000
TZNAME:MEZ
TZOFFSETTO:+0100
END:STANDARD
END:VTIMEZONE
BEGIN:VEVENT
UID:20240219T142231Z-00000954857-LULU@www.bayernspd.de
CREATED:20240219T142231Z
LAST-MODIFIED:20260424T125429Z
DTSTAMP:20260424T125429Z
TRANSP:TRANSPARENT
DTSTART;TZID=Europe/Berlin:20260427T150000
DTEND;TZID=Europe/Berlin:20260427T150000
SUMMARY:Kreistag Bad Kissingen | Verabschiedung von Landrat Thomas Bold
LOCATION:Bad Kissingen
DESCRIPTION:Termin im Web (Sabine Dittmar):\nhttps://sabine-dittmar.com/
 termine/?id=954857
END:VEVENT
END:VCALENDAR
