BEGIN:VCALENDAR
VERSION:2.0
METHOD:PUBLISH
PRODID:-//imacoda.com//SPD-Web-O-Mat//EN
CALSCALE:GREGORIAN
BEGIN:VTIMEZONE
TZID:Europe/Berlin
BEGIN:DAYLIGHT
TZOFFSETFROM:+0100
RRULE:FREQ=YEARLY;BYMONTH=3;BYDAY=-1SU
DTSTART:19810329T020000
TZNAME:MESZ
TZOFFSETTO:+0200
END:DAYLIGHT
BEGIN:STANDARD
TZOFFSETFROM:+0200
RRULE:FREQ=YEARLY;BYMONTH=10;BYDAY=-1SU
DTSTART:19961027T030000
TZNAME:MEZ
TZOFFSETTO:+0100
END:STANDARD
END:VTIMEZONE
BEGIN:VEVENT
UID:20221114T203527Z-00000851673-LULU@www.bayernspd.de
CREATED:20221114T203527Z
LAST-MODIFIED:20260417T173826Z
DTSTAMP:20260417T173826Z
TRANSP:TRANSPARENT
DTSTART;TZID=Europe/Berlin:20260422T140000
DTEND;TZID=Europe/Berlin:20260422T140000
SUMMARY:Plenarpräsenz | Antragsberatungen | Hintergrundgespräche
LOCATION:Berlin | Plenarsaal des Deutschen Bundestages im Reichstagsgebä
 ude
DESCRIPTION:Termin im Web (Sabine Dittmar):\nhttps://sabine-dittmar.com/
 termine/?id=851673
END:VEVENT
END:VCALENDAR
